BEGIN:VCALENDAR
VERSION:2.0
PRODID:-//Theaterfest NÖ - ECPv4.9.14.1//NONSGML v1.0//EN
CALSCALE:GREGORIAN
METHOD:PUBLISH
X-WR-CALNAME:Theaterfest NÖ
X-ORIGINAL-URL:https://theaterfest.eventjet.at
X-WR-CALDESC:Events for Theaterfest NÖ
BEGIN:VTIMEZONE
TZID:Europe/Vienna
BEGIN:DAYLIGHT
TZOFFSETFROM:+0100
TZOFFSETTO:+0200
TZNAME:CEST
DTSTART:20260329T010000
END:DAYLIGHT
BEGIN:STANDARD
TZOFFSETFROM:+0200
TZOFFSETTO:+0100
TZNAME:CET
DTSTART:20261025T010000
END:STANDARD
END:VTIMEZONE
BEGIN:VEVENT
DTSTART;TZID=Europe/Vienna:20260513T200000
DTEND;TZID=Europe/Vienna:20260513T223000
DTSTAMP:20260422T113213
CREATED:20260117T200251Z
LAST-MODIFIED:20260415T100315Z
UID:3154-1778702400-1778711400@theaterfest.eventjet.at
SUMMARY:Christian Havel & Erwin Schmidt "The Art of Duo"
DESCRIPTION:Christian Havel: Gitarre\nErwin Schmidt: Klavier \nGitarre und Klavier – im Jazz normalerweise wegen harmonischer Überlappungen im Zusammenspiel äußerst schwierig\, fügen sich bei diesen zwei Musikern zusammen wie Pech und Schwefel.\nDie beiden spielen seit drei Jahrzehnten immer wieder in verschiedensten Formationen zusammen. Das 2019 erschienene Duo Album mit dem Titel „WOMEN“\, das den Ehefrauen der Musiker gewidmet ist\, war daher eine logische Fortführung der kongenialen Zusammenarbeit.\nVeranstaltung in Zusammenarbeit mit der Musikfabrik NÖ \n
URL:https://theaterfest.eventjet.at/e/christian-havel-erwin-schmidt-the-art-of-duo/
END:VEVENT
END:VCALENDAR