BEGIN:VCALENDAR
VERSION:2.0
PRODID:-//Theaterfest NÖ - ECPv4.9.14.1//NONSGML v1.0//EN
CALSCALE:GREGORIAN
METHOD:PUBLISH
X-WR-CALNAME:Theaterfest NÖ
X-ORIGINAL-URL:https://theaterfest.eventjet.at
X-WR-CALDESC:Events for Theaterfest NÖ
BEGIN:VTIMEZONE
TZID:Europe/Vienna
BEGIN:DAYLIGHT
TZOFFSETFROM:+0100
TZOFFSETTO:+0200
TZNAME:CEST
DTSTART:20260329T010000
END:DAYLIGHT
BEGIN:STANDARD
TZOFFSETFROM:+0200
TZOFFSETTO:+0100
TZNAME:CET
DTSTART:20261025T010000
END:STANDARD
END:VTIMEZONE
BEGIN:VEVENT
DTSTART;TZID=Europe/Vienna:20260709T193000
DTEND;TZID=Europe/Vienna:20260709T220000
DTSTAMP:20260422T160650
CREATED:20260318T133321Z
LAST-MODIFIED:20260318T133321Z
UID:3251-1783625400-1783634400@theaterfest.eventjet.at
SUMMARY:Sinfonisches Blasorchester Retz
DESCRIPTION:Sinfonisches Blasorchester Retz (SBO Retz). Musikalische Exzellenz. \nLeidenschaftliche Hingabe. Ein Klangkörper mit Strahlkraft. \nDas Sinfonische Blasorchester Retz (SBO Retz) wurde im Jahr 2003 als Auswahlorchester für die besten Bläser- und Schlagwerktalente des Musikschulverbandes Retzer Land und der umliegenden Region gegründet. Seither vereint das Orchester rund 60 hochmotivierte Musikerinnen und Musiker\, die mit außergewöhnlicher Leidenschaft und Präzision sinfonische Blasmusik auf höchstem Niveau interpretieren. \nInitiiert von Mag. Gerhard Forman\, entstand das SBO Retz aus dem Wunsch\, besonders begabten Absolvent:innen\, Schüler:innen und Nachwuchstalenten ein künstlerisches Zuhause zu geben – ein inspirierendes Umfeld\, in dem internationale Blasorchesterliteratur in semiprofessionellem Rahmen mit Hingabe und Qualität erarbeitet werden kann. Der damalige Altersdurchschnitt von 20 Jahren legte den Grundstein für eine bemerkenswerte Erfolgsgeschichte. \nIn nur wenigen Jahren erspielte sich das SBO Retz einen herausragenden Ruf in der österreichischen Musiklandschaft. Zahlreiche nationale wie internationale Preise dokumentieren den künstlerischen Anspruch und das außergewöhnliche Niveau des Orchesters. Dazu zählen: \nMehrfacher Bundessieger beim Österreichischen Jugendorchesterwettbewerb (2003\, 2005\, 2007\, 2015) \n1. Platz und Gesamtsieg beim hochkarätigen Festival „Flicorno d’Oro“ in Italien (2009) mit 94\,75 Punkten \nGruppensieg in der Stufe „E“ bei den „Internationalen Musiktagen Vöcklabruck“ (2012). \n1. Platz beim renommierten Wettbewerb „Certamen Internacional de Bandas“ in Valencia (2013) \nGruppensieg in der Oberstufe beim 21. Festival für Sinfonische Blasorchester in Prag (2019) \n2. Platz beim Österreichischen Höchststufen-Wettbewerb (2023) mit sensationelle 94\,6 Punkte \nDas SBO Retz ist nicht nur ein Wettbewerbssieger – es ist ein Aushängeschild für musikalische Exzellenz\, das sich durch künstlerische Tiefe\, kreative Programmgestaltung und klangliche Raffinesse auszeichnet. Die Auswahl anspruchsvoller Literatur und herausragender Konzertorte\, darunter das Konzerthaus Wien\, Mid Europe in Schladming oder die Innsbrucker Promenadenkonzerte\, machen jedes Konzert zu einem besonderen Erlebnis. \nFür seine Leistungen wurde das Orchester vielfach ausgezeichnet: mit Sonderpreisen der Bundesminister Haupt und Haubner sowie dem Anerkennungspreis des Landes Niederösterreich (2009)\, überreicht von Landeshauptmann Dr. Erwin Pröll. \nDie künstlerische Leitung liegt seit der Gründung in den Händen von Mag. Gerhard Forman\, der es mit visionärer Handschrift und unermüdlichem Engagement versteht\, das Ensemble immer wieder zu neuen Höhenflügen zu führen. Unter seiner Leitung ist ein Klangkörper entstanden\, der nicht nur musikalisch überzeugt\, sondern auch menschlich inspiriert. \nIm Zuge der Konzerttournee 2026 wird das SBO Retz zu Gast bei den Festivals in Retz\, Znojmo\, Salzburg und den Innsbrucker Promenadenkonzerten sein. Wir freuen uns\, Sie am Donnerstag\, 9. Juli 2026 um 19.30 Uhr im Schloss Gatterburg in Retz begrüßen zu dürfen! \n
URL:https://theaterfest.eventjet.at/e/sinfonisches-blasorchester-retz/
CATEGORIES:Klassisch
END:VEVENT
BEGIN:VEVENT
DTSTART;TZID=Europe/Vienna:20260709T200000
DTEND;TZID=Europe/Vienna:20260709T224500
DTSTAMP:20260422T160650
CREATED:20251002T120231Z
LAST-MODIFIED:20260327T103311Z
UID:3039-1783627200-1783637100@theaterfest.eventjet.at
SUMMARY:operklosterneuburg 2026 - "Samson und Dalila"
DESCRIPTION:Erleben Sie mit Camille Saint-Saëns’ monumentaler Oper Samson et Dalila ein Werk voller Dramatik\, Leidenschaft und Verrat! Im Mittelpunkt steht die biblische Geschichte des Helden Samson\, dessen außergewöhnliche Stärke ihn zum Befreier seines Volkes bestimmt – und zugleich die verhängnisvolle Liebe zu Dalila\, die ihn mit List und Verführung ins Verderben führt. Saint-Saëns’ meisterhafte Musik spannt dabei den Bogen von ergreifender Innigkeit bis hin zu machtvoller Klangpracht und lässt das Drama in eindrucksvollen Farben erstrahlen.\nIn der Rolle der verführerischen Dalila ist die gefeierte Mezzosopranistin Margarita Gritskova zu erleben\, die das Publikum im Stift Klosterneuburg bereits in zahlreichen großen Partien begeisterte – als Adalgisa in Norma\, Eboli in Don Carlo\, Preziosilla in La forza del destino\, als Muse in Les contes d’Hoffmann sowie als Isolier in Le Comte Ory. Mit ihrer warmen Stimme und ausdrucksstarken Bühnenpräsenz gilt sie längst als Publikumsliebling.\nFreuen Sie sich auf einen Opernabend von überwältigender Intensität im einzigartigen Ambiente des Kaiserhofes im Stift Klosterneuburg. \n
URL:https://theaterfest.eventjet.at/e/operklosterneuburg-2026-samson-und-dalila-3/
CATEGORIES:Oper
END:VEVENT
BEGIN:VEVENT
DTSTART;TZID=Europe/Vienna:20260709T200000
DTEND;TZID=Europe/Vienna:20260709T223000
DTSTAMP:20260422T160650
CREATED:20251201T150246Z
LAST-MODIFIED:20260316T123313Z
UID:3118-1783627200-1783636200@theaterfest.eventjet.at
SUMMARY:TILL EULENSPIEGEL
DESCRIPTION:4. Kategorie: BEI SCHLECHTWETTER KEIN PLATZANSPRUCH IM SAAL\nInhaberinnen und Inhaber von Karten der Kategorie 4 werden bei Indoor-Aufführungen mit freien Plätzen nach Verfügbarkeit versorgt. Wird eine Aufführung vor der vorgesehenen Pause in den Saal verlegt und steht kein ausreichendes Angebot an freien Plätzen zur Verfügung\, wird Kategorie 4 mit der Rückerstattung des bezahlten Eintrittsgeldes entschädigt. Nach der Pause erlischt der Refundierungsanspruch. \nFür Informationen zu Rollstuhlplätzen und barrierefreien Zugängen wenden Sie sich bitte an das InfoCenter der Marktgemeinde Perchtoldsdorf Tel: +43 1 86683 400 \n
URL:https://theaterfest.eventjet.at/e/till-eulenspiegel-13/
CATEGORIES:Theater
END:VEVENT
END:VCALENDAR