BEGIN:VCALENDAR
VERSION:2.0
PRODID:-//Theaterfest NÖ - ECPv4.9.14.1//NONSGML v1.0//EN
CALSCALE:GREGORIAN
METHOD:PUBLISH
X-WR-CALNAME:Theaterfest NÖ
X-ORIGINAL-URL:https://theaterfest.eventjet.at
X-WR-CALDESC:Events for Theaterfest NÖ
BEGIN:VTIMEZONE
TZID:Europe/Vienna
BEGIN:DAYLIGHT
TZOFFSETFROM:+0100
TZOFFSETTO:+0200
TZNAME:CEST
DTSTART:20260329T010000
END:DAYLIGHT
BEGIN:STANDARD
TZOFFSETFROM:+0200
TZOFFSETTO:+0100
TZNAME:CET
DTSTART:20261025T010000
END:STANDARD
END:VTIMEZONE
BEGIN:VEVENT
DTSTART;TZID=Europe/Vienna:20260712T160000
DTEND;TZID=Europe/Vienna:20260712T190000
DTSTAMP:20260422T143415
CREATED:20250704T180406Z
LAST-MODIFIED:20260212T083334Z
UID:2830-1783872000-1783882800@theaterfest.eventjet.at
SUMMARY:Lumpazivagabundus
DESCRIPTION:Nach dem großen Erfolg von „Liebesgeschichten und Heiratssachen – Nestroy im Dreivierteltakt“ im Sommer 2025\, das einen Publikumsrekord erzielte\, bringt das Schloss Weitra Festival ab dem 3. Juli 2026 erneut einen Nestroy-Stoff mit einem Meister der Wiener Unterhaltungsmusik zusammen. Das erfolgserprobte Konzept\, altbewährtes Sprechtheater in erfrischendes Musiktheater zu verwandeln\, wird mit Lumpazivagabundus und der mitreißenden Musik von C.M. Ziehrer fortgesetzt. \nLumpazivagabundus – Glanzstück des Wiener Volkstheaters\nKönnen liederliche Gesellen dadurch gebessert werden\, dass die Glücksgöttin ihr Füllhorn über sie ausschüttet? Dieser Frage widmet sich Nestroys Meisterwerk\, mit dem seine kometenhafte Karriere den Anfang genommen hat. Das Stück erzählt die Geschichte dreier mittelloser Handwerksgesellen\, die über Nacht in der Lotterie 100.000 Gulden gewinnen. Aber nur einem von ihnen gelingt es\, das unerwartete Glück auf Anhieb sinnvoll zu nutzen. \nEin hochkarätiges Ensemble und ein bewährtes Kreativ- und Leading Team:\nDie Rollen des „Liederlichen Kleeblatts“ sind besetzt mit Martin Muliar (Knieriem)\, Florian Stanek (Zwirn) und Aris Sas (Leim)\, Andy Lee Lang (Lumpazivagabundus)\, Nazide Aylin (Palpitti)\, Tania Golden (Fortuna)\, Birgit Scheibenreif (Peppi)\, Nik Raspotnik (Hobelmann / Stellaris)\, Michael Konicek und Laura Luisa Hat. \nBuch und Intendanz: Peter Hofbauer\nRegie: Peter Kratochvil\nMusikalische Leitung: Florian Schäfer\nBühnen- und Kostümbild: Ilona Glöckl \nErmäßigungen für AK NÖ- und ÖGB-Mitglieder (Mitgliedsnummer erforderlich!)\, Kinder bis 14 Jahre und RollstuhlfahrerInnen\, sowie Gruppenermäßigungen. Für nähere Informationen kontaktieren Sie festival@schloss-weitra.at oder +43 (0) 664 / 515 09 86 \nNähere Informationen zu allen Ermäßigungen finden sie unter  \n\n\n\nKlicken Sie auf den unteren Button\, um den Inhalt von schloss-weitra.at zu laden. \nInhalt laden \n \n \nPGJsb2NrcXVvdGUgY2xhc3M9IndwLWVtYmVkZGVkLWNvbnRlbnQiIGRhdGEtc2VjcmV0PSJIRm9wMEtic0RmIj48YSBocmVmPSJodHRwczovL3NjaGxvc3Mtd2VpdHJhLmF0L2Zlc3RpdmFsLyI+RmVzdGl2YWw8L2E+PC9ibG9ja3F1b3RlPjxpZnJhbWUgY2xhc3M9IndwLWVtYmVkZGVkLWNvbnRlbnQiIHNhbmRib3g9ImFsbG93LXNjcmlwdHMiIHNlY3VyaXR5PSJyZXN0cmljdGVkIiBzdHlsZT0icG9zaXRpb246IGFic29sdXRlOyB2aXNpYmlsaXR5OiBoaWRkZW47IiB0aXRsZT0iJiM4MjIyO0Zlc3RpdmFsJiM4MjIwOyAmIzgyMTE7IFNjaGxvc3MgV2VpdHJhIiBzcmM9Imh0dHBzOi8vc2NobG9zcy13ZWl0cmEuYXQvZmVzdGl2YWwvZW1iZWQvIz9zZWNyZXQ9aXlubGlYZlp2WSM/c2VjcmV0PUhGb3AwS2JzRGYiIGRhdGEtc2VjcmV0PSJIRm9wMEtic0RmIiB3aWR0aD0iNTAwIiBoZWlnaHQ9IjI4MiIgZnJhbWVib3JkZXI9IjAiIG1hcmdpbndpZHRoPSIwIiBtYXJnaW5oZWlnaHQ9IjAiIHNjcm9sbGluZz0ibm8iPjwvaWZyYW1lPg==\n\n
URL:https://theaterfest.eventjet.at/e/lumpazivagabundus-10/
CATEGORIES:Bühne
END:VEVENT
BEGIN:VEVENT
DTSTART;TZID=Europe/Vienna:20260712T180000
DTEND;TZID=Europe/Vienna:20260712T210000
DTSTAMP:20260422T143415
CREATED:20250826T090231Z
LAST-MODIFIED:20251212T160225Z
UID:2980-1783879200-1783890000@theaterfest.eventjet.at
SUMMARY:SUGAR - Manche mögen's heiß
DESCRIPTION:Von „Sugar“\, dem Musical basierend auf dem bekannten Film „Manche mögen´s heiß“ aus dem\nJahr 1959 von Billy Wilder und I. A. L. Diamond\, wurde 2022 eine neue Fassung geschrieben.\nInhalt: In letzter Minute gelingt es Joe und Jerry\, zwei Männer in Frauenkleidern\,\ndie berühmte Girl-Band „Society Syncopators“ vor dem Aus zu retten. Doch ihre\nTarnung bringt sie in eine gefährliche Welt voller Verstrickungen\, Rivalitäten und\nGangster-Alarm. Während sie versuchen\, ihre wahre Identität zu verbergen\, geraten sie\nzwischen rivalisierende Gangsterbanden\, die sie auf der Abschussliste haben.\nAuf der Flucht vor den Verbrechern\, die in Miami nach ihnen suchen\, müssen Joe und Jerry\nihre Rollen als Frauen aufrechterhalten – und das führt zu komischen\, aber auch brenzligen\nSituationen. Sie treffen auf Sugar\, ein herzensgutes Ukulele-Mädchen\, das sich in die beiden\nMänner verliebt\, ohne zu ahnen\, wer sie wirklich sind. Währenddessen entwickeln sich zwischen\nden beiden Freunden und Sugar leidenschaftliche Gefühle\, die alles auf den Kopf stellen.\nMit viel Witz\, Action und Romantik erzählt diese turbulente Komödie die\nGeschichte von Mut\, Freundschaft und der Suche nach dem eigenen Glück – voller\nüberraschender Wendungen und unvergesslicher Momente. \n
URL:https://theaterfest.eventjet.at/e/sugar-manche-moegens-heiss-9/
CATEGORIES:Theater
END:VEVENT
BEGIN:VEVENT
DTSTART;TZID=Europe/Vienna:20260712T193000
DTEND;TZID=Europe/Vienna:20260712T210000
DTSTAMP:20260422T143415
CREATED:20251203T130227Z
LAST-MODIFIED:20260227T093316Z
UID:3129-1783884600-1783890000@theaterfest.eventjet.at
SUMMARY:Judith und Holofernes - La Giuditta - von Alessandro Scarlatti
DESCRIPTION:Eine Frau wird zur politischen Attentäterin. Die Bibel berichtet von einer Helddentat. Die Wirklichkeit sieht anders aus. – Opernthriller in internationaler Spitzenbesetzung im einzigartigen Barockambiente der Stadtpfarrkirche zu Retz. \n
URL:https://theaterfest.eventjet.at/e/judith-und-holofernes-la-giudetta-von-alessandro-scarlatti-4/
CATEGORIES:Oper
END:VEVENT
END:VCALENDAR