BEGIN:VCALENDAR
VERSION:2.0
PRODID:-//Theaterfest NÖ - ECPv4.9.14.1//NONSGML v1.0//EN
CALSCALE:GREGORIAN
METHOD:PUBLISH
X-WR-CALNAME:Theaterfest NÖ
X-ORIGINAL-URL:https://theaterfest.eventjet.at
X-WR-CALDESC:Events for Theaterfest NÖ
BEGIN:VTIMEZONE
TZID:Europe/Vienna
BEGIN:DAYLIGHT
TZOFFSETFROM:+0100
TZOFFSETTO:+0200
TZNAME:CEST
DTSTART:20260329T010000
END:DAYLIGHT
BEGIN:STANDARD
TZOFFSETFROM:+0200
TZOFFSETTO:+0100
TZNAME:CET
DTSTART:20261025T010000
END:STANDARD
END:VTIMEZONE
BEGIN:VEVENT
DTSTART;TZID=Europe/Vienna:20260721T200000
DTEND;TZID=Europe/Vienna:20260721T224500
DTSTAMP:20260422T143211
CREATED:20251002T120227Z
LAST-MODIFIED:20260327T110317Z
UID:3037-1784664000-1784673900@theaterfest.eventjet.at
SUMMARY:operklosterneuburg 2026 - "Samson und Dalila"
DESCRIPTION:Erleben Sie mit Camille Saint-Saëns’ monumentaler Oper Samson et Dalila ein Werk voller Dramatik\, Leidenschaft und Verrat! Im Mittelpunkt steht die biblische Geschichte des Helden Samson\, dessen außergewöhnliche Stärke ihn zum Befreier seines Volkes bestimmt – und zugleich die verhängnisvolle Liebe zu Dalila\, die ihn mit List und Verführung ins Verderben führt. Saint-Saëns’ meisterhafte Musik spannt dabei den Bogen von ergreifender Innigkeit bis hin zu machtvoller Klangpracht und lässt das Drama in eindrucksvollen Farben erstrahlen.\nIn der Rolle der verführerischen Dalila ist die gefeierte Mezzosopranistin Margarita Gritskova zu erleben\, die das Publikum im Stift Klosterneuburg bereits in zahlreichen großen Partien begeisterte – als Adalgisa in Norma\, Eboli in Don Carlo\, Preziosilla in La forza del destino\, als Muse in Les contes d’Hoffmann sowie als Isolier in Le Comte Ory. Mit ihrer warmen Stimme und ausdrucksstarken Bühnenpräsenz gilt sie längst als Publikumsliebling.\nFreuen Sie sich auf einen Opernabend von überwältigender Intensität im einzigartigen Ambiente des Kaiserhofes im Stift Klosterneuburg. \n
URL:https://theaterfest.eventjet.at/e/operklosterneuburg-2026-samson-und-dalila/
CATEGORIES:Oper
END:VEVENT
END:VCALENDAR