BEGIN:VCALENDAR
VERSION:2.0
PRODID:-//Theaterfest NÖ - ECPv4.9.14.1//NONSGML v1.0//EN
CALSCALE:GREGORIAN
METHOD:PUBLISH
X-WR-CALNAME:Theaterfest NÖ
X-ORIGINAL-URL:https://theaterfest.eventjet.at
X-WR-CALDESC:Events for Theaterfest NÖ
BEGIN:VTIMEZONE
TZID:Europe/Vienna
BEGIN:DAYLIGHT
TZOFFSETFROM:+0100
TZOFFSETTO:+0200
TZNAME:CEST
DTSTART:20260329T010000
END:DAYLIGHT
BEGIN:STANDARD
TZOFFSETFROM:+0200
TZOFFSETTO:+0100
TZNAME:CET
DTSTART:20261025T010000
END:STANDARD
END:VTIMEZONE
BEGIN:VEVENT
DTSTART;TZID=Europe/Vienna:20260725T110000
DTEND;TZID=Europe/Vienna:20260725T153000
DTSTAMP:20260422T143350
CREATED:20260318T140314Z
LAST-MODIFIED:20260328T123306Z
UID:3253-1784977200-1784993400@theaterfest.eventjet.at
SUMMARY:Orgeltour über offene Grenzen
DESCRIPTION:
URL:https://theaterfest.eventjet.at/e/orgeltour-ueber-offene-grenzen/
END:VEVENT
BEGIN:VEVENT
DTSTART;TZID=Europe/Vienna:20260725T150000
DTEND;TZID=Europe/Vienna:20260725T180000
DTSTAMP:20260422T143350
CREATED:20250704T180403Z
LAST-MODIFIED:20260212T083333Z
UID:2827-1784991600-1785002400@theaterfest.eventjet.at
SUMMARY:Lumpazivagabundus
DESCRIPTION:Nach dem großen Erfolg von „Liebesgeschichten und Heiratssachen – Nestroy im Dreivierteltakt“ im Sommer 2025\, das einen Publikumsrekord erzielte\, bringt das Schloss Weitra Festival ab dem 3. Juli 2026 erneut einen Nestroy-Stoff mit einem Meister der Wiener Unterhaltungsmusik zusammen. Das erfolgserprobte Konzept\, altbewährtes Sprechtheater in erfrischendes Musiktheater zu verwandeln\, wird mit Lumpazivagabundus und der mitreißenden Musik von C.M. Ziehrer fortgesetzt. \nLumpazivagabundus – Glanzstück des Wiener Volkstheaters\nKönnen liederliche Gesellen dadurch gebessert werden\, dass die Glücksgöttin ihr Füllhorn über sie ausschüttet? Dieser Frage widmet sich Nestroys Meisterwerk\, mit dem seine kometenhafte Karriere den Anfang genommen hat. Das Stück erzählt die Geschichte dreier mittelloser Handwerksgesellen\, die über Nacht in der Lotterie 100.000 Gulden gewinnen. Aber nur einem von ihnen gelingt es\, das unerwartete Glück auf Anhieb sinnvoll zu nutzen. \nEin hochkarätiges Ensemble und ein bewährtes Kreativ- und Leading Team:\nDie Rollen des „Liederlichen Kleeblatts“ sind besetzt mit Martin Muliar (Knieriem)\, Florian Stanek (Zwirn) und Aris Sas (Leim)\, Andy Lee Lang (Lumpazivagabundus)\, Nazide Aylin (Palpitti)\, Tania Golden (Fortuna)\, Birgit Scheibenreif (Peppi)\, Nik Raspotnik (Hobelmann / Stellaris)\, Michael Konicek und Laura Luisa Hat. \nBuch und Intendanz: Peter Hofbauer\nRegie: Peter Kratochvil\nMusikalische Leitung: Florian Schäfer\nBühnen- und Kostümbild: Ilona Glöckl \nErmäßigungen für AK NÖ- und ÖGB-Mitglieder (Mitgliedsnummer erforderlich!)\, Kinder bis 14 Jahre und RollstuhlfahrerInnen\, sowie Gruppenermäßigungen. Für nähere Informationen kontaktieren Sie festival@schloss-weitra.at oder +43 (0) 664 / 515 09 86 \nNähere Informationen zu allen Ermäßigungen finden sie unter  \n\n\n\nKlicken Sie auf den unteren Button\, um den Inhalt von schloss-weitra.at zu laden. \nInhalt laden \n \n \nPGJsb2NrcXVvdGUgY2xhc3M9IndwLWVtYmVkZGVkLWNvbnRlbnQiIGRhdGEtc2VjcmV0PSJKY1BmMTFsNWhCIj48YSBocmVmPSJodHRwczovL3NjaGxvc3Mtd2VpdHJhLmF0L2Zlc3RpdmFsLyI+RmVzdGl2YWw8L2E+PC9ibG9ja3F1b3RlPjxpZnJhbWUgY2xhc3M9IndwLWVtYmVkZGVkLWNvbnRlbnQiIHNhbmRib3g9ImFsbG93LXNjcmlwdHMiIHNlY3VyaXR5PSJyZXN0cmljdGVkIiBzdHlsZT0icG9zaXRpb246IGFic29sdXRlOyB2aXNpYmlsaXR5OiBoaWRkZW47IiB0aXRsZT0iJiM4MjIyO0Zlc3RpdmFsJiM4MjIwOyAmIzgyMTE7IFNjaGxvc3MgV2VpdHJhIiBzcmM9Imh0dHBzOi8vc2NobG9zcy13ZWl0cmEuYXQvZmVzdGl2YWwvZW1iZWQvIz9zZWNyZXQ9ZEJsc0hZS2ZJUCM/c2VjcmV0PUpjUGYxMWw1aEIiIGRhdGEtc2VjcmV0PSJKY1BmMTFsNWhCIiB3aWR0aD0iNTAwIiBoZWlnaHQ9IjI4MiIgZnJhbWVib3JkZXI9IjAiIG1hcmdpbndpZHRoPSIwIiBtYXJnaW5oZWlnaHQ9IjAiIHNjcm9sbGluZz0ibm8iPjwvaWZyYW1lPg==\n\n
URL:https://theaterfest.eventjet.at/e/lumpazivagabundus-7/
CATEGORIES:Bühne
END:VEVENT
BEGIN:VEVENT
DTSTART;TZID=Europe/Vienna:20260725T150000
DTEND;TZID=Europe/Vienna:20260725T163000
DTSTAMP:20260422T143351
CREATED:20260328T130309Z
LAST-MODIFIED:20260328T130309Z
UID:3271-1784991600-1784997000@theaterfest.eventjet.at
SUMMARY:Orgeltour über offene Grenzen Einzelticket Pulkau
DESCRIPTION:
URL:https://theaterfest.eventjet.at/e/orgeltour-ueber-offene-grenzen-einzelticket-pulkau/
END:VEVENT
BEGIN:VEVENT
DTSTART;TZID=Europe/Vienna:20260725T190000
DTEND;TZID=Europe/Vienna:20260725T220000
DTSTAMP:20260422T143351
CREATED:20250827T090230Z
LAST-MODIFIED:20251212T150225Z
UID:2986-1785006000-1785016800@theaterfest.eventjet.at
SUMMARY:SUGAR - Manche mögen's heiß
DESCRIPTION:Von „Sugar“\, dem Musical basierend auf dem bekannten Film „Manche mögen´s heiß“ aus dem\nJahr 1959 von Billy Wilder und I. A. L. Diamond\, wurde 2022 eine neue Fassung geschrieben.\nInhalt: In letzter Minute gelingt es Joe und Jerry\, zwei Männer in Frauenkleidern\,\ndie berühmte Girl-Band „Society Syncopators“ vor dem Aus zu retten. Doch ihre\nTarnung bringt sie in eine gefährliche Welt voller Verstrickungen\, Rivalitäten und\nGangster-Alarm. Während sie versuchen\, ihre wahre Identität zu verbergen\, geraten sie\nzwischen rivalisierende Gangsterbanden\, die sie auf der Abschussliste haben.\nAuf der Flucht vor den Verbrechern\, die in Miami nach ihnen suchen\, müssen Joe und Jerry\nihre Rollen als Frauen aufrechterhalten – und das führt zu komischen\, aber auch brenzligen\nSituationen. Sie treffen auf Sugar\, ein herzensgutes Ukulele-Mädchen\, das sich in die beiden\nMänner verliebt\, ohne zu ahnen\, wer sie wirklich sind. Währenddessen entwickeln sich zwischen\nden beiden Freunden und Sugar leidenschaftliche Gefühle\, die alles auf den Kopf stellen.\nMit viel Witz\, Action und Romantik erzählt diese turbulente Komödie die\nGeschichte von Mut\, Freundschaft und der Suche nach dem eigenen Glück – voller\nüberraschender Wendungen und unvergesslicher Momente. \n
URL:https://theaterfest.eventjet.at/e/sugar-manche-moegens-heiss-15/
CATEGORIES:Theater
END:VEVENT
BEGIN:VEVENT
DTSTART;TZID=Europe/Vienna:20260725T193000
DTEND;TZID=Europe/Vienna:20260725T223000
DTSTAMP:20260422T143351
CREATED:20250704T180408Z
LAST-MODIFIED:20260315T230326Z
UID:2833-1785007800-1785018600@theaterfest.eventjet.at
SUMMARY:Lumpazivagabundus
DESCRIPTION:Nach dem großen Erfolg von „Liebesgeschichten und Heiratssachen – Nestroy im Dreivierteltakt“ im Sommer 2025\, das einen Publikumsrekord erzielte\, bringt das Schloss Weitra Festival ab dem 3. Juli 2026 erneut einen Nestroy-Stoff mit einem Meister der Wiener Unterhaltungsmusik zusammen. Das erfolgserprobte Konzept\, altbewährtes Sprechtheater in erfrischendes Musiktheater zu verwandeln\, wird mit Lumpazivagabundus und der mitreißenden Musik von C.M. Ziehrer fortgesetzt. \nLumpazivagabundus – Glanzstück des Wiener Volkstheaters\nKönnen liederliche Gesellen dadurch gebessert werden\, dass die Glücksgöttin ihr Füllhorn über sie ausschüttet? Dieser Frage widmet sich Nestroys Meisterwerk\, mit dem seine kometenhafte Karriere den Anfang genommen hat. Das Stück erzählt die Geschichte dreier mittelloser Handwerksgesellen\, die über Nacht in der Lotterie 100.000 Gulden gewinnen. Aber nur einem von ihnen gelingt es\, das unerwartete Glück auf Anhieb sinnvoll zu nutzen. \nEin hochkarätiges Ensemble und ein bewährtes Kreativ- und Leading Team:\nDie Rollen des „Liederlichen Kleeblatts“ sind besetzt mit Martin Muliar (Knieriem)\, Florian Stanek (Zwirn) und Aris Sas (Leim)\, Andy Lee Lang (Lumpazivagabundus)\, Nazide Aylin (Palpitti)\, Tania Golden (Fortuna)\, Birgit Scheibenreif (Peppi)\, Nik Raspotnik (Hobelmann / Stellaris)\, Michael Konicek und Laura Luisa Hat. \nBuch und Intendanz: Peter Hofbauer\nRegie: Peter Kratochvil\nMusikalische Leitung: Florian Schäfer\nBühnen- und Kostümbild: Ilona Glöckl \nErmäßigungen für AK NÖ- und ÖGB-Mitglieder (Mitgliedsnummer erforderlich!)\, Kinder bis 14 Jahre und RollstuhlfahrerInnen\, sowie Gruppenermäßigungen. Für nähere Informationen kontaktieren Sie festival@schloss-weitra.at oder +43 (0) 664 / 515 09 86 \nNähere Informationen zu allen Ermäßigungen finden sie unter  \n\n\n\nKlicken Sie auf den unteren Button\, um den Inhalt von schloss-weitra.at zu laden. \nInhalt laden \n \n \nPGJsb2NrcXVvdGUgY2xhc3M9IndwLWVtYmVkZGVkLWNvbnRlbnQiIGRhdGEtc2VjcmV0PSJKY1BmMTFsNWhCIj48YSBocmVmPSJodHRwczovL3NjaGxvc3Mtd2VpdHJhLmF0L2Zlc3RpdmFsLyI+RmVzdGl2YWw8L2E+PC9ibG9ja3F1b3RlPjxpZnJhbWUgY2xhc3M9IndwLWVtYmVkZGVkLWNvbnRlbnQiIHNhbmRib3g9ImFsbG93LXNjcmlwdHMiIHNlY3VyaXR5PSJyZXN0cmljdGVkIiBzdHlsZT0icG9zaXRpb246IGFic29sdXRlOyB2aXNpYmlsaXR5OiBoaWRkZW47IiB0aXRsZT0iJiM4MjIyO0Zlc3RpdmFsJiM4MjIwOyAmIzgyMTE7IFNjaGxvc3MgV2VpdHJhIiBzcmM9Imh0dHBzOi8vc2NobG9zcy13ZWl0cmEuYXQvZmVzdGl2YWwvZW1iZWQvIz9zZWNyZXQ9ZEJsc0hZS2ZJUCM/c2VjcmV0PUpjUGYxMWw1aEIiIGRhdGEtc2VjcmV0PSJKY1BmMTFsNWhCIiB3aWR0aD0iNTAwIiBoZWlnaHQ9IjI4MiIgZnJhbWVib3JkZXI9IjAiIG1hcmdpbndpZHRoPSIwIiBtYXJnaW5oZWlnaHQ9IjAiIHNjcm9sbGluZz0ibm8iPjwvaWZyYW1lPg==\n\n
URL:https://theaterfest.eventjet.at/e/lumpazivagabundus-12/
CATEGORIES:Bühne
END:VEVENT
BEGIN:VEVENT
DTSTART;TZID=Europe/Vienna:20260725T193000
DTEND;TZID=Europe/Vienna:20260725T220000
DTSTAMP:20260422T143351
CREATED:20260317T100317Z
LAST-MODIFIED:20260318T133321Z
UID:3248-1785007800-1785016800@theaterfest.eventjet.at
SUMMARY:Galakonzert Silvia Frigato
DESCRIPTION:
URL:https://theaterfest.eventjet.at/e/galakonzert-silvia-frigato/
CATEGORIES:Klassik
END:VEVENT
BEGIN:VEVENT
DTSTART;TZID=Europe/Vienna:20260725T200000
DTEND;TZID=Europe/Vienna:20260725T224500
DTSTAMP:20260422T143351
CREATED:20251002T120236Z
LAST-MODIFIED:20260327T103312Z
UID:3041-1785009600-1785019500@theaterfest.eventjet.at
SUMMARY:operklosterneuburg 2026 - "Samson und Dalila"
DESCRIPTION:Erleben Sie mit Camille Saint-Saëns’ monumentaler Oper Samson et Dalila ein Werk voller Dramatik\, Leidenschaft und Verrat! Im Mittelpunkt steht die biblische Geschichte des Helden Samson\, dessen außergewöhnliche Stärke ihn zum Befreier seines Volkes bestimmt – und zugleich die verhängnisvolle Liebe zu Dalila\, die ihn mit List und Verführung ins Verderben führt. Saint-Saëns’ meisterhafte Musik spannt dabei den Bogen von ergreifender Innigkeit bis hin zu machtvoller Klangpracht und lässt das Drama in eindrucksvollen Farben erstrahlen.\nIn der Rolle der verführerischen Dalila ist die gefeierte Mezzosopranistin Margarita Gritskova zu erleben\, die das Publikum im Stift Klosterneuburg bereits in zahlreichen großen Partien begeisterte – als Adalgisa in Norma\, Eboli in Don Carlo\, Preziosilla in La forza del destino\, als Muse in Les contes d’Hoffmann sowie als Isolier in Le Comte Ory. Mit ihrer warmen Stimme und ausdrucksstarken Bühnenpräsenz gilt sie längst als Publikumsliebling.\nFreuen Sie sich auf einen Opernabend von überwältigender Intensität im einzigartigen Ambiente des Kaiserhofes im Stift Klosterneuburg. \n
URL:https://theaterfest.eventjet.at/e/operklosterneuburg-2026-samson-und-dalila-5/
CATEGORIES:Oper
END:VEVENT
BEGIN:VEVENT
DTSTART;TZID=Europe/Vienna:20260725T200000
DTEND;TZID=Europe/Vienna:20260725T223000
DTSTAMP:20260422T143351
CREATED:20251201T143225Z
LAST-MODIFIED:20260316T130312Z
UID:3107-1785009600-1785018600@theaterfest.eventjet.at
SUMMARY:TILL EULENSPIEGEL
DESCRIPTION:4. Kategorie: BEI SCHLECHTWETTER KEIN PLATZANSPRUCH IM SAAL\nInhaberinnen und Inhaber von Karten der Kategorie 4 werden bei Indoor-Aufführungen mit freien Plätzen nach Verfügbarkeit versorgt. Wird eine Aufführung vor der vorgesehenen Pause in den Saal verlegt und steht kein ausreichendes Angebot an freien Plätzen zur Verfügung\, wird Kategorie 4 mit der Rückerstattung des bezahlten Eintrittsgeldes entschädigt. Nach der Pause erlischt der Refundierungsanspruch. \nFür Informationen zu Rollstuhlplätzen und barrierefreien Zugängen wenden Sie sich bitte an das InfoCenter der Marktgemeinde Perchtoldsdorf Tel: +43 1 86683 400 \n
URL:https://theaterfest.eventjet.at/e/till-eulenspiegel-4/
CATEGORIES:Theater
END:VEVENT
BEGIN:VEVENT
DTSTART;TZID=Europe/Vienna:20260725T203000
DTEND;TZID=Europe/Vienna:20260725T233000
DTSTAMP:20260422T143351
CREATED:20251109T090228Z
LAST-MODIFIED:20251224T230233Z
UID:3085-1785011400-1785022200@theaterfest.eventjet.at
SUMMARY:GHOST - Nachricht von Sam
DESCRIPTION:Mit der Musicaladaption des oscarprämierten Hollywood-Blockbusters „GHOST – Nachricht von Sam” steht im Sommer 2026 eine der größten Liebesgeschichten aller Zeiten auf dem Spielplan der Felsenbühne Staatz. \nDas Autorenteam Bruce Joel Rubin\, Dave Stewart (Mastermind der Formation “Eurythmics”) und Glen Ballard haben die berührende und packende Filmstory in ein ebensolches Musical verwandelt\, in dem natürlich auch der Hit „Unchained Melody“ nicht fehlen darf. \nIntendant und Regisseur Werner Auer und sein Team werden die Musicalfassung des Fantasy-Thrillers\, der 1990 mit Patrick Swayze\, Demi Moore und Whoopi Goldberg in den Kinos lief\, nun inmitten der imposanten Open-Air-Kulisse der Felsenbühne Staatz inszenieren! \nDie Sitzplätze mit den Nummern 10\, 11 (Mitteltribünen) und 35 (Außentribünen) sind neben einem Stiegenaufgang. Nur die Stiegenaufgänge der Außentribünen neben den Plätzen mit der Nummer 35 verfügen über einen Handlauf. \n
URL:https://theaterfest.eventjet.at/e/ghost-nachricht-von-sam-4/
CATEGORIES:Musical
END:VEVENT
END:VCALENDAR