BEGIN:VCALENDAR
VERSION:2.0
PRODID:-//Theaterfest NÖ - ECPv4.9.14.1//NONSGML v1.0//EN
CALSCALE:GREGORIAN
METHOD:PUBLISH
X-WR-CALNAME:Theaterfest NÖ
X-ORIGINAL-URL:https://theaterfest.eventjet.at
X-WR-CALDESC:Events for Theaterfest NÖ
BEGIN:VTIMEZONE
TZID:Europe/Vienna
BEGIN:DAYLIGHT
TZOFFSETFROM:+0100
TZOFFSETTO:+0200
TZNAME:CEST
DTSTART:20260329T010000
END:DAYLIGHT
BEGIN:STANDARD
TZOFFSETFROM:+0200
TZOFFSETTO:+0100
TZNAME:CET
DTSTART:20261025T010000
END:STANDARD
END:VTIMEZONE
BEGIN:VEVENT
DTSTART;TZID=Europe/Vienna:20260806T203000
DTEND;TZID=Europe/Vienna:20260806T233000
DTSTAMP:20260422T160516
CREATED:20251109T093226Z
LAST-MODIFIED:20251224T230234Z
UID:3090-1786048200-1786059000@theaterfest.eventjet.at
SUMMARY:GHOST - Nachricht von Sam
DESCRIPTION:Mit der Musicaladaption des oscarprämierten Hollywood-Blockbusters „GHOST – Nachricht von Sam” steht im Sommer 2026 eine der größten Liebesgeschichten aller Zeiten auf dem Spielplan der Felsenbühne Staatz. \nDas Autorenteam Bruce Joel Rubin\, Dave Stewart (Mastermind der Formation “Eurythmics”) und Glen Ballard haben die berührende und packende Filmstory in ein ebensolches Musical verwandelt\, in dem natürlich auch der Hit „Unchained Melody“ nicht fehlen darf. \nIntendant und Regisseur Werner Auer und sein Team werden die Musicalfassung des Fantasy-Thrillers\, der 1990 mit Patrick Swayze\, Demi Moore und Whoopi Goldberg in den Kinos lief\, nun inmitten der imposanten Open-Air-Kulisse der Felsenbühne Staatz inszenieren! \nDie Sitzplätze mit den Nummern 10\, 11 (Mitteltribünen) und 35 (Außentribünen) sind neben einem Stiegenaufgang. Nur die Stiegenaufgänge der Außentribünen neben den Plätzen mit der Nummer 35 verfügen über einen Handlauf. \n
URL:https://theaterfest.eventjet.at/e/ghost-nachricht-von-sam-9/
CATEGORIES:Musical
END:VEVENT
END:VCALENDAR